Package: ACME Version: 2.60.0 Command: /home/biocbuild/bbs-3.19-bioc/R/bin/R CMD check --install=check:ACME.install-out.txt --library=/home/biocbuild/bbs-3.19-bioc/R/site-library --timings ACME_2.60.0.tar.gz StartedAt: 2024-10-16 21:30:24 -0400 (Wed, 16 Oct 2024) EndedAt: 2024-10-16 21:31:41 -0400 (Wed, 16 Oct 2024) EllapsedTime: 76.2 seconds RetCode: 0 Status: WARNINGS CheckDir: ACME.Rcheck Warnings: 1