Package: ACME Version: 2.60.0 Command: chmod a+r ACME -R && E:\biocbuild\bbs-3.19-bioc\R\bin\R.exe CMD build --keep-empty-dirs --no-resave-data ACME StartedAt: 2024-10-16 17:29:25 -0400 (Wed, 16 Oct 2024) EndedAt: 2024-10-16 17:30:18 -0400 (Wed, 16 Oct 2024) EllapsedTime: 52.9 seconds RetCode: 0 Status: OK PackageFile: ACME_2.60.0.tar.gz PackageFileSize: 9.797 MiB