Package: ACME Version: 2.60.0 Command: E:\biocbuild\bbs-3.19-bioc\R\bin\R.exe CMD check --no-multiarch --install=check:ACME.install-out.txt --library=E:\biocbuild\bbs-3.19-bioc\R\library --no-vignettes --timings ACME_2.60.0.tar.gz StartedAt: 2024-10-16 22:42:14 -0400 (Wed, 16 Oct 2024) EndedAt: 2024-10-16 22:43:32 -0400 (Wed, 16 Oct 2024) EllapsedTime: 78.1 seconds RetCode: 0 Status: WARNINGS CheckDir: ACME.Rcheck Warnings: 1