Package: ADAM Version: 1.20.0 Command: rm -rf ADAM.buildbin-libdir && mkdir ADAM.buildbin-libdir && /Users/biocbuild/BBS/utils/build-universal.sh ADAM_1.20.0.tar.gz /Library/Frameworks/R.framework/Resources/bin/R ADAM.buildbin-libdir StartedAt: 2024-10-17 15:35:49 -0400 (Thu, 17 Oct 2024) EndedAt: 2024-10-17 15:37:11 -0400 (Thu, 17 Oct 2024) EllapsedTime: 81.8 seconds RetCode: 0 Status: OK PackageFile: ADAM_1.20.0.tgz PackageFileSize: 398.6 KiB