Package: ADaCGH2 Version: 2.44.0 Maintainer: Ramon Diaz-Uriarte MaintainerEmail: rdiaz02 at gmail.com git_url: https://git.bioconductor.org/packages/ADaCGH2 git_branch: RELEASE_3_19 git_last_commit: 8e4a752 git_last_commit_date: 2024-04-30 10:23:01 -0400 (Tue, 30 Apr 2024)