Package: ADaCGH2 Version: 2.44.0 Command: /Library/Frameworks/R.framework/Resources/bin/R CMD INSTALL ADaCGH2 StartedAt: 2024-10-16 18:05:46 -0400 (Wed, 16 Oct 2024) EndedAt: 2024-10-16 18:06:15 -0400 (Wed, 16 Oct 2024) EllapsedTime: 28.5 seconds RetCode: 0 Status: OK