Package: ADaCGH2 Version: 2.44.0 Command: rm -rf ADaCGH2.buildbin-libdir && mkdir ADaCGH2.buildbin-libdir && /Users/biocbuild/BBS/utils/build-universal.sh ADaCGH2_2.44.0.tar.gz /Library/Frameworks/R.framework/Resources/bin/R ADaCGH2.buildbin-libdir StartedAt: 2024-10-17 15:35:49 -0400 (Thu, 17 Oct 2024) EndedAt: 2024-10-17 15:36:51 -0400 (Thu, 17 Oct 2024) EllapsedTime: 62.3 seconds RetCode: 0 Status: OK PackageFile: ADaCGH2_2.44.0.tgz PackageFileSize: 1.29 MiB