Package: ALDEx2 Version: 1.36.0 Command: /Library/Frameworks/R.framework/Resources/bin/R CMD build --keep-empty-dirs --no-resave-data ALDEx2 StartedAt: 2024-10-16 19:14:49 -0400 (Wed, 16 Oct 2024) EndedAt: 2024-10-16 19:16:54 -0400 (Wed, 16 Oct 2024) EllapsedTime: 124.9 seconds RetCode: 0 Status: OK PackageFile: ALDEx2_1.36.0.tar.gz PackageFileSize: 3.095 MiB