Package: ALDEx2 Version: 1.36.0 Command: /Library/Frameworks/R.framework/Resources/bin/R CMD build --keep-empty-dirs --no-resave-data ALDEx2 StartedAt: 2024-06-09 17:57:28 -0400 (Sun, 09 Jun 2024) EndedAt: 2024-06-09 17:59:46 -0400 (Sun, 09 Jun 2024) EllapsedTime: 138.6 seconds RetCode: 0 Status: OK PackageFile: ALDEx2_1.36.0.tar.gz PackageFileSize: 3.098 MiB