Package: ALDEx2 Version: 1.36.0 Command: /Library/Frameworks/R.framework/Resources/bin/R CMD check --install=check:ALDEx2.install-out.txt --library=/Library/Frameworks/R.framework/Resources/library --no-vignettes --timings ALDEx2_1.36.0.tar.gz StartedAt: 2024-06-10 07:09:38 -0400 (Mon, 10 Jun 2024) EndedAt: 2024-06-10 07:15:19 -0400 (Mon, 10 Jun 2024) EllapsedTime: 340.9 seconds RetCode: 0 Status: OK CheckDir: ALDEx2.Rcheck Warnings: 0