Package: ALDEx2 Version: 1.36.0 Command: rm -rf ALDEx2.buildbin-libdir && mkdir ALDEx2.buildbin-libdir && E:\biocbuild\bbs-3.19-bioc\R\bin\R.exe CMD INSTALL --build --library=ALDEx2.buildbin-libdir ALDEx2_1.36.0.tar.gz StartedAt: 2024-10-17 07:19:05 -0400 (Thu, 17 Oct 2024) EndedAt: 2024-10-17 07:19:51 -0400 (Thu, 17 Oct 2024) EllapsedTime: 46.8 seconds RetCode: 0 Status: OK PackageFile: ALDEx2_1.36.0.zip PackageFileSize: 1.555 MiB