Package: ALDEx2 Version: 1.36.0 Command: chmod a+r ALDEx2 -R && E:\biocbuild\bbs-3.19-bioc\R\bin\R.exe CMD build --keep-empty-dirs --no-resave-data ALDEx2 StartedAt: 2024-10-16 17:31:44 -0400 (Wed, 16 Oct 2024) EndedAt: 2024-10-16 17:34:22 -0400 (Wed, 16 Oct 2024) EllapsedTime: 157.5 seconds RetCode: 0 Status: OK PackageFile: ALDEx2_1.36.0.tar.gz PackageFileSize: 1.896 MiB