Package: APAlyzer Version: 1.18.0 Command: rm -rf APAlyzer.buildbin-libdir && mkdir APAlyzer.buildbin-libdir && /Users/biocbuild/BBS/utils/build-universal.sh APAlyzer_1.18.0.tar.gz /Library/Frameworks/R.framework/Resources/bin/R APAlyzer.buildbin-libdir StartedAt: 2024-10-18 17:17:38 -0400 (Fri, 18 Oct 2024) EndedAt: 2024-10-18 17:18:43 -0400 (Fri, 18 Oct 2024) EllapsedTime: 65.0 seconds RetCode: 0 Status: OK PackageFile: APAlyzer_1.18.0.tgz PackageFileSize: 4.045 MiB