Package: APAlyzer Version: 1.18.0 Command: /home/biocbuild/bbs-3.19-bioc/R/bin/R CMD INSTALL APAlyzer StartedAt: 2024-10-16 16:36:20 -0400 (Wed, 16 Oct 2024) EndedAt: 2024-10-16 16:37:01 -0400 (Wed, 16 Oct 2024) EllapsedTime: 41.2 seconds RetCode: 0 Status: OK