Package: APAlyzer Version: 1.18.0 Command: chmod a+r APAlyzer -R && E:\biocbuild\bbs-3.19-bioc\R\bin\R.exe CMD build --keep-empty-dirs --no-resave-data APAlyzer StartedAt: 2024-10-16 17:34:23 -0400 (Wed, 16 Oct 2024) EndedAt: 2024-10-16 17:39:54 -0400 (Wed, 16 Oct 2024) EllapsedTime: 330.8 seconds RetCode: 0 Status: OK PackageFile: APAlyzer_1.18.0.tar.gz PackageFileSize: 3.5 MiB