Package: ARRmNormalization Version: 1.44.0 Command: /Library/Frameworks/R.framework/Resources/bin/R CMD check --install=check:ARRmNormalization.install-out.txt --library=/Library/Frameworks/R.framework/Resources/library --no-vignettes --timings ARRmNormalization_1.44.0.tar.gz StartedAt: 2024-06-10 07:30:38 -0400 (Mon, 10 Jun 2024) EndedAt: 2024-06-10 07:33:13 -0400 (Mon, 10 Jun 2024) EllapsedTime: 155.5 seconds RetCode: 0 Status: OK CheckDir: ARRmNormalization.Rcheck Warnings: 0