Package: ARRmNormalization Version: 1.44.0 Command: /home/biocbuild/R/R-beta-2024-04-15_r86425/bin/R CMD build --keep-empty-dirs --no-resave-data ARRmNormalization StartedAt: 2024-05-08 22:21:25 -0000 (Wed, 08 May 2024) EndedAt: 2024-05-08 22:21:55 -0000 (Wed, 08 May 2024) EllapsedTime: 30.0 seconds RetCode: 0 Status: OK PackageFile: ARRmNormalization_1.44.0.tar.gz PackageFileSize: 1.066 MiB