Package: ARRmNormalization Version: 1.44.0 Command: /Library/Frameworks/R.framework/Resources/bin/R CMD build --keep-empty-dirs --no-resave-data ARRmNormalization StartedAt: 2024-10-16 17:05:26 -0400 (Wed, 16 Oct 2024) EndedAt: 2024-10-16 17:06:20 -0400 (Wed, 16 Oct 2024) EllapsedTime: 54.5 seconds RetCode: 0 Status: OK PackageFile: ARRmNormalization_1.44.0.tar.gz PackageFileSize: 1.075 MiB