Package: ARRmNormalization Version: 1.44.0 Command: /Library/Frameworks/R.framework/Resources/bin/R CMD check --install=check:ARRmNormalization.install-out.txt --library=/Library/Frameworks/R.framework/Resources/library --no-vignettes --timings ARRmNormalization_1.44.0.tar.gz StartedAt: 2024-10-17 01:07:57 -0400 (Thu, 17 Oct 2024) EndedAt: 2024-10-17 01:10:43 -0400 (Thu, 17 Oct 2024) EllapsedTime: 166.0 seconds RetCode: 0 Status: OK CheckDir: ARRmNormalization.Rcheck Warnings: 0