Package: ARRmNormalization Version: 1.44.0 Command: /home/biocbuild/bbs-3.19-bioc/R/bin/R CMD check --install=check:ARRmNormalization.install-out.txt --library=/home/biocbuild/bbs-3.19-bioc/R/site-library --timings ARRmNormalization_1.44.0.tar.gz StartedAt: 2024-10-16 21:40:19 -0400 (Wed, 16 Oct 2024) EndedAt: 2024-10-16 21:42:07 -0400 (Wed, 16 Oct 2024) EllapsedTime: 108.3 seconds RetCode: 0 Status: OK CheckDir: ARRmNormalization.Rcheck Warnings: 0