Package: ARRmNormalization Version: 1.44.0 Command: rm -rf ARRmNormalization.buildbin-libdir && mkdir ARRmNormalization.buildbin-libdir && F:\biocbuild\bbs-3.19-bioc\R\bin\R.exe CMD INSTALL --build --library=ARRmNormalization.buildbin-libdir ARRmNormalization_1.44.0.tar.gz StartedAt: 2024-06-27 07:50:15 -0400 (Thu, 27 Jun 2024) EndedAt: 2024-06-27 07:50:31 -0400 (Thu, 27 Jun 2024) EllapsedTime: 16.5 seconds RetCode: 0 Status: OK PackageFile: ARRmNormalization_1.44.0.zip PackageFileSize: 1.023 MiB