Package: ASGSCA Version: 1.38.0 Maintainer: Hela Romdhani MaintainerEmail: hela.romdhani at mcgill.ca git_url: https://git.bioconductor.org/packages/ASGSCA git_branch: RELEASE_3_19 git_last_commit: ab462ba git_last_commit_date: 2024-04-30 10:39:29 -0400 (Tue, 30 Apr 2024)