Package: ASGSCA Version: 1.38.0 Command: /Library/Frameworks/R.framework/Resources/bin/R CMD build --keep-empty-dirs --no-resave-data ASGSCA StartedAt: 2024-10-16 19:29:59 -0400 (Wed, 16 Oct 2024) EndedAt: 2024-10-16 19:33:08 -0400 (Wed, 16 Oct 2024) EllapsedTime: 188.3 seconds RetCode: 0 Status: OK PackageFile: ASGSCA_1.38.0.tar.gz PackageFileSize: 1.293 MiB