Package: ASGSCA Version: 1.38.0 Command: /home/biocbuild/R/R-beta-2024-04-15_r86425/bin/R CMD build --keep-empty-dirs --no-resave-data ASGSCA StartedAt: 2024-05-08 22:22:02 -0000 (Wed, 08 May 2024) EndedAt: 2024-05-08 22:26:06 -0000 (Wed, 08 May 2024) EllapsedTime: 244.3 seconds RetCode: 0 Status: OK PackageFile: ASGSCA_1.38.0.tar.gz PackageFileSize: 1.282 MiB