Package: ASGSCA Version: 1.38.0 Command: /Library/Frameworks/R.framework/Resources/bin/R CMD build --keep-empty-dirs --no-resave-data ASGSCA StartedAt: 2024-06-09 15:51:21 -0400 (Sun, 09 Jun 2024) EndedAt: 2024-06-09 15:53:51 -0400 (Sun, 09 Jun 2024) EllapsedTime: 150.6 seconds RetCode: 0 Status: OK PackageFile: ASGSCA_1.38.0.tar.gz PackageFileSize: 1.292 MiB