Package: ASGSCA Version: 1.38.0 Command: /Library/Frameworks/R.framework/Resources/bin/R CMD build --keep-empty-dirs --no-resave-data ASGSCA StartedAt: 2024-10-16 17:05:44 -0400 (Wed, 16 Oct 2024) EndedAt: 2024-10-16 17:12:51 -0400 (Wed, 16 Oct 2024) EllapsedTime: 426.8 seconds RetCode: 0 Status: OK PackageFile: ASGSCA_1.38.0.tar.gz PackageFileSize: 1.293 MiB