Package: ASGSCA Version: 1.38.0 Command: chmod a+r ASGSCA -R && F:\biocbuild\bbs-3.19-bioc\R\bin\R.exe CMD build --keep-empty-dirs --no-resave-data ASGSCA StartedAt: 2024-06-26 17:07:59 -0400 (Wed, 26 Jun 2024) EndedAt: 2024-06-26 17:10:53 -0400 (Wed, 26 Jun 2024) EllapsedTime: 174.3 seconds RetCode: 0 Status: OK PackageFile: ASGSCA_1.38.0.tar.gz PackageFileSize: 1.183 MiB