Package: ASGSCA Version: 1.38.0 Command: rm -rf ASGSCA.buildbin-libdir && mkdir ASGSCA.buildbin-libdir && E:\biocbuild\bbs-3.19-bioc\R\bin\R.exe CMD INSTALL --build --library=ASGSCA.buildbin-libdir ASGSCA_1.38.0.tar.gz StartedAt: 2024-10-17 07:20:48 -0400 (Thu, 17 Oct 2024) EndedAt: 2024-10-17 07:20:58 -0400 (Thu, 17 Oct 2024) EllapsedTime: 9.4 seconds RetCode: 0 Status: OK PackageFile: ASGSCA_1.38.0.zip PackageFileSize: 767.3 KiB