Package: ASSET Version: 2.22.0 Command: /Library/Frameworks/R.framework/Resources/bin/R CMD build --keep-empty-dirs --no-resave-data ASSET StartedAt: 2024-06-09 18:08:51 -0400 (Sun, 09 Jun 2024) EndedAt: 2024-06-09 18:09:13 -0400 (Sun, 09 Jun 2024) EllapsedTime: 21.4 seconds RetCode: 0 Status: OK PackageFile: ASSET_2.22.0.tar.gz PackageFileSize: 321.5 KiB