Package: ASSIGN Version: 1.40.0 Command: rm -rf ASSIGN.buildbin-libdir && mkdir ASSIGN.buildbin-libdir && F:\biocbuild\bbs-3.19-bioc\R\bin\R.exe CMD INSTALL --build --library=ASSIGN.buildbin-libdir ASSIGN_1.40.0.tar.gz StartedAt: 2024-06-27 07:50:31 -0400 (Thu, 27 Jun 2024) EndedAt: 2024-06-27 07:50:51 -0400 (Thu, 27 Jun 2024) EllapsedTime: 19.3 seconds RetCode: 0 Status: OK PackageFile: ASSIGN_1.40.0.zip PackageFileSize: 1.676 MiB