Package: ASSIGN Version: 1.40.0 Command: rm -rf ASSIGN.buildbin-libdir && mkdir ASSIGN.buildbin-libdir && E:\biocbuild\bbs-3.19-bioc\R\bin\R.exe CMD INSTALL --build --library=ASSIGN.buildbin-libdir ASSIGN_1.40.0.tar.gz StartedAt: 2024-10-17 07:20:59 -0400 (Thu, 17 Oct 2024) EndedAt: 2024-10-17 07:21:08 -0400 (Thu, 17 Oct 2024) EllapsedTime: 8.7 seconds RetCode: 0 Status: OK PackageFile: ASSIGN_1.40.0.zip PackageFileSize: 1.676 MiB