Package: ASURAT Version: 1.8.0 Command: /Library/Frameworks/R.framework/Resources/bin/R CMD INSTALL ASURAT StartedAt: 2024-10-16 15:53:03 -0400 (Wed, 16 Oct 2024) EndedAt: 2024-10-16 15:54:20 -0400 (Wed, 16 Oct 2024) EllapsedTime: 77.5 seconds RetCode: 0 Status: OK