Package: ASURAT Version: 1.8.0 Command: /home/biocbuild/bbs-3.19-bioc/R/bin/R CMD check --install=check:ASURAT.install-out.txt --library=/home/biocbuild/bbs-3.19-bioc/R/site-library --timings ASURAT_1.8.0.tar.gz StartedAt: 2024-10-09 20:41:16 -0400 (Wed, 09 Oct 2024) EndedAt: 2024-10-09 20:57:29 -0400 (Wed, 09 Oct 2024) EllapsedTime: 972.7 seconds RetCode: 0 Status: OK CheckDir: ASURAT.Rcheck Warnings: 0