Package: ASURAT Version: 1.8.0 Command: chmod a+r ASURAT -R && E:\biocbuild\bbs-3.19-bioc\R\bin\R.exe CMD build --keep-empty-dirs --no-resave-data ASURAT StartedAt: 2024-10-16 17:36:18 -0400 (Wed, 16 Oct 2024) EndedAt: 2024-10-16 17:55:45 -0400 (Wed, 16 Oct 2024) EllapsedTime: 1166.6 seconds RetCode: 0 Status: OK PackageFile: ASURAT_1.8.0.tar.gz PackageFileSize: 1.161 MiB