Package: ASURAT Version: 1.8.0 Command: E:\biocbuild\bbs-3.19-bioc\R\bin\R.exe CMD check --no-multiarch --install=check:ASURAT.install-out.txt --library=E:\biocbuild\bbs-3.19-bioc\R\library --no-vignettes --timings ASURAT_1.8.0.tar.gz StartedAt: 2024-10-16 22:54:30 -0400 (Wed, 16 Oct 2024) EndedAt: 2024-10-16 22:58:43 -0400 (Wed, 16 Oct 2024) EllapsedTime: 253.1 seconds RetCode: 0 Status: OK CheckDir: ASURAT.Rcheck Warnings: 0