Package: ATACCoGAPS Version: 1.6.0 Command: chmod a+r ATACCoGAPS -R && E:\biocbuild\bbs-3.19-bioc\R\bin\R.exe CMD build --keep-empty-dirs --no-resave-data ATACCoGAPS StartedAt: 2024-10-16 17:36:30 -0400 (Wed, 16 Oct 2024) EndedAt: 2024-10-16 17:40:14 -0400 (Wed, 16 Oct 2024) EllapsedTime: 224.1 seconds RetCode: 0 Status: OK PackageFile: ATACCoGAPS_1.6.0.tar.gz PackageFileSize: 2.645 MiB