Package: ATACCoGAPS Version: 1.6.0 Command: E:\biocbuild\bbs-3.19-bioc\R\bin\R.exe CMD check --no-multiarch --install=check:ATACCoGAPS.install-out.txt --library=E:\biocbuild\bbs-3.19-bioc\R\library --no-vignettes --timings ATACCoGAPS_1.6.0.tar.gz StartedAt: 2024-10-16 22:54:37 -0400 (Wed, 16 Oct 2024) EndedAt: 2024-10-16 23:07:35 -0400 (Wed, 16 Oct 2024) EllapsedTime: 778.1 seconds RetCode: 0 Status: OK CheckDir: ATACCoGAPS.Rcheck Warnings: 0