Package: AlphaBeta Version: 1.18.0 Maintainer: Yadollah Shahryary Dizaji MaintainerEmail: shahryary at gmail.com git_url: https://git.bioconductor.org/packages/AlphaBeta git_branch: RELEASE_3_19 git_last_commit: 95b1f5f git_last_commit_date: 2024-04-30 11:16:22 -0400 (Tue, 30 Apr 2024)