Package: AlphaBeta Version: 1.18.0 Command: rm -rf AlphaBeta.buildbin-libdir && mkdir AlphaBeta.buildbin-libdir && /Users/biocbuild/BBS/utils/build-universal.sh AlphaBeta_1.18.0.tar.gz /Library/Frameworks/R.framework/Resources/bin/R AlphaBeta.buildbin-libdir StartedAt: 2024-10-18 17:15:24 -0400 (Fri, 18 Oct 2024) EndedAt: 2024-10-18 17:15:43 -0400 (Fri, 18 Oct 2024) EllapsedTime: 19.3 seconds RetCode: 0 Status: OK PackageFile: AlphaBeta_1.18.0.tgz PackageFileSize: 2.704 MiB