Package: AlphaBeta Version: 1.18.0 Command: /home/biocbuild/R/R-beta-2024-04-15_r86425/bin/R CMD check --install=check:AlphaBeta.install-out.txt --library=/home/biocbuild/R/R-beta-2024-04-15_r86425/site-library --no-vignettes --timings AlphaBeta_1.18.0.tar.gz StartedAt: 2024-05-09 04:42:02 -0000 (Thu, 09 May 2024) EndedAt: 2024-05-09 04:53:47 -0000 (Thu, 09 May 2024) EllapsedTime: 705.4 seconds RetCode: 0 Status: OK CheckDir: AlphaBeta.Rcheck Warnings: 0