Package: AlphaBeta Version: 1.18.0 Command: /Library/Frameworks/R.framework/Resources/bin/R CMD build --keep-empty-dirs --no-resave-data AlphaBeta StartedAt: 2024-10-16 17:01:39 -0400 (Wed, 16 Oct 2024) EndedAt: 2024-10-16 17:12:40 -0400 (Wed, 16 Oct 2024) EllapsedTime: 662.0 seconds RetCode: 0 Status: OK PackageFile: AlphaBeta_1.18.0.tar.gz PackageFileSize: 2.476 MiB