Package: AlphaBeta Version: 1.18.0 Command: /home/biocbuild/bbs-3.19-bioc/R/bin/R CMD build --keep-empty-dirs --no-resave-data AlphaBeta StartedAt: 2024-10-16 16:53:45 -0400 (Wed, 16 Oct 2024) EndedAt: 2024-10-16 16:57:30 -0400 (Wed, 16 Oct 2024) EllapsedTime: 225.4 seconds RetCode: 0 Status: OK PackageFile: AlphaBeta_1.18.0.tar.gz PackageFileSize: 2.477 MiB