Package: AlphaBeta Version: 1.18.0 Command: /home/biocbuild/bbs-3.19-bioc/R/bin/R CMD INSTALL AlphaBeta StartedAt: 2024-10-16 16:19:54 -0400 (Wed, 16 Oct 2024) EndedAt: 2024-10-16 16:20:06 -0400 (Wed, 16 Oct 2024) EllapsedTime: 12.3 seconds RetCode: 0 Status: OK