Package: AlphaBeta Version: 1.18.0 Command: rm -rf AlphaBeta.buildbin-libdir && mkdir AlphaBeta.buildbin-libdir && F:\biocbuild\bbs-3.19-bioc\R\bin\R.exe CMD INSTALL --build --library=AlphaBeta.buildbin-libdir AlphaBeta_1.18.0.tar.gz StartedAt: 2024-06-27 07:49:03 -0400 (Thu, 27 Jun 2024) EndedAt: 2024-06-27 07:49:29 -0400 (Thu, 27 Jun 2024) EllapsedTime: 25.5 seconds RetCode: 0 Status: OK PackageFile: AlphaBeta_1.18.0.zip PackageFileSize: 2.67 MiB