Package: AlphaBeta Version: 1.18.0 Command: chmod a+r AlphaBeta -R && F:\biocbuild\bbs-3.19-bioc\R\bin\R.exe CMD build --keep-empty-dirs --no-resave-data AlphaBeta StartedAt: 2024-06-26 17:03:26 -0400 (Wed, 26 Jun 2024) EndedAt: 2024-06-26 17:08:17 -0400 (Wed, 26 Jun 2024) EllapsedTime: 291.6 seconds RetCode: 0 Status: OK PackageFile: AlphaBeta_1.18.0.tar.gz PackageFileSize: 2.475 MiB