Package: AlphaBeta Version: 1.18.0 Command: rm -rf AlphaBeta.buildbin-libdir && mkdir AlphaBeta.buildbin-libdir && E:\biocbuild\bbs-3.19-bioc\R\bin\R.exe CMD INSTALL --build --library=AlphaBeta.buildbin-libdir AlphaBeta_1.18.0.tar.gz StartedAt: 2024-10-17 07:19:18 -0400 (Thu, 17 Oct 2024) EndedAt: 2024-10-17 07:19:55 -0400 (Thu, 17 Oct 2024) EllapsedTime: 36.9 seconds RetCode: 0 Status: OK PackageFile: AlphaBeta_1.18.0.zip PackageFileSize: 2.671 MiB