Package: AlphaMissenseR Version: 1.0.2 Command: rm -rf AlphaMissenseR.buildbin-libdir && mkdir AlphaMissenseR.buildbin-libdir && /Users/biocbuild/BBS/utils/build-universal.sh AlphaMissenseR_1.0.2.tar.gz /Library/Frameworks/R.framework/Resources/bin/R AlphaMissenseR.buildbin-libdir StartedAt: 2024-10-18 17:15:25 -0400 (Fri, 18 Oct 2024) EndedAt: 2024-10-18 17:15:37 -0400 (Fri, 18 Oct 2024) EllapsedTime: 11.4 seconds RetCode: 0 Status: OK PackageFile: AlphaMissenseR_1.0.2.tgz PackageFileSize: 570 KiB