Package: AlphaMissenseR Version: 1.0.2 Command: /Library/Frameworks/R.framework/Resources/bin/R CMD check --install=check:AlphaMissenseR.install-out.txt --library=/Library/Frameworks/R.framework/Resources/library --no-vignettes --timings AlphaMissenseR_1.0.2.tar.gz StartedAt: 2024-10-17 12:07:09 -0400 (Thu, 17 Oct 2024) EndedAt: 2024-10-17 12:08:53 -0400 (Thu, 17 Oct 2024) EllapsedTime: 104.6 seconds RetCode: 0 Status: OK CheckDir: AlphaMissenseR.Rcheck Warnings: 0