Package: AlphaMissenseR Version: 1.0.2 Command: /Library/Frameworks/R.framework/Resources/bin/R CMD check --install=check:AlphaMissenseR.install-out.txt --library=/Library/Frameworks/R.framework/Resources/library --no-vignettes --timings AlphaMissenseR_1.0.2.tar.gz StartedAt: 2024-06-09 18:43:03 -0400 (Sun, 09 Jun 2024) EndedAt: 2024-06-09 18:44:56 -0400 (Sun, 09 Jun 2024) EllapsedTime: 112.5 seconds RetCode: 0 Status: OK CheckDir: AlphaMissenseR.Rcheck Warnings: 0