Package: AlphaMissenseR Version: 1.0.2 Command: /Library/Frameworks/R.framework/Resources/bin/R CMD build --keep-empty-dirs --no-resave-data AlphaMissenseR StartedAt: 2024-10-16 17:01:40 -0400 (Wed, 16 Oct 2024) EndedAt: 2024-10-16 17:03:42 -0400 (Wed, 16 Oct 2024) EllapsedTime: 122.8 seconds RetCode: 0 Status: OK PackageFile: AlphaMissenseR_1.0.2.tar.gz PackageFileSize: 411.6 KiB